BEGIN:VCALENDAR
VERSION:2.0
PRODID:-//Talks.cam//talks.cam.ac.uk//
X-WR-CALNAME:Talks.cam
BEGIN:VEVENT
SUMMARY:Group discussion: New machine age - Speaker to be confirmed
DTSTART:20150119T140000Z
DTEND:20150119T153000Z
UID:TALK56445@talks.cam.ac.uk
CONTACT:Andrew Rice
DESCRIPTION:Abstract not available
LOCATION:SS03\, William Gates Building
END:VEVENT
END:VCALENDAR
