BEGIN:VCALENDAR
VERSION:2.0
PRODID:-//Talks.cam//talks.cam.ac.uk//
X-WR-CALNAME:Talks.cam
BEGIN:VEVENT
SUMMARY:Inter-hemispheric symmetry or asymmetry in variations of tropical 
 rainbelt during the last glacial cycle? perspectives from a climate model-
 data comparison - Dr Joy Singarayer (Reading)
DTSTART:20150302T141500Z
DTEND:20150302T151500Z
UID:TALK56463@talks.cam.ac.uk
CONTACT:Dr Amanda Maycock
DESCRIPTION:Abstract not available
LOCATION:Unilever Lecture Theatre\, Department of Chemistry
END:VEVENT
END:VCALENDAR
