BEGIN:VCALENDAR
VERSION:2.0
PRODID:-//Talks.cam//talks.cam.ac.uk//
X-WR-CALNAME:Talks.cam
BEGIN:VEVENT
SUMMARY:The what of p-adic L-functions - David Hansen (Columbia University
 )
DTSTART:20150224T161500Z
DTEND:20150224T171500Z
UID:TALK56683@talks.cam.ac.uk
CONTACT:Jack Thorne
DESCRIPTION:I'll describe the notion of a "p-adic L-function"\, and explai
 n some reasons why one might care about these objects\, with emphasis on e
 xamples coming from Dirichlet characters and elliptic curves.  I'll also d
 iscuss some new results on the p-adic L-functions associated with modular 
 forms on GL2 and beyond.
LOCATION:MR13
END:VEVENT
END:VCALENDAR
