BEGIN:VCALENDAR
VERSION:2.0
PRODID:-//Talks.cam//talks.cam.ac.uk//
X-WR-CALNAME:Talks.cam
BEGIN:VEVENT
SUMMARY: Poles of maximal order of Igusa zeta functions - Johannes Nicaise
 \, University of Leuven
DTSTART:20150304T141500Z
DTEND:20150304T151500Z
UID:TALK57015@talks.cam.ac.uk
CONTACT:Mark Gross
DESCRIPTION: I will present a proof of a conjecture of Wim Veys\, saying t
 hat minus\nthe log\ncanonical threshold of a hypersurface singularity is t
 he only possible pole of\nmaximal order of the Igusa zeta function of the 
 singularity. The proof uses\nrecent results from the MMP but has a natural
  interpretation in terms of\nnon-archimedean geometry (weight functions on
  Berkovich spaces). This is joint\nwork with Chenyang Xu.
LOCATION:CMS MR13
END:VEVENT
END:VCALENDAR
