BEGIN:VCALENDAR
VERSION:2.0
PRODID:-//Talks.cam//talks.cam.ac.uk//
X-WR-CALNAME:Talks.cam
BEGIN:VEVENT
SUMMARY:Insights from a model of breast tumor heterogeneity - Greg Hannon\
 , CRUK\, Cambridge
DTSTART:20150326T161500Z
DTEND:20150326T171500Z
UID:TALK57172@talks.cam.ac.uk
CONTACT:Scientific Meetings Co-ordinator
DESCRIPTION:Abstract not available
LOCATION:Max Perutz Lecture Theatre\, Medical Research Council (MRC) (MRC 
 Laboratory of Molecular Biol
END:VEVENT
END:VCALENDAR
