BEGIN:VCALENDAR
VERSION:2.0
PRODID:-//Talks.cam//talks.cam.ac.uk//
X-WR-CALNAME:Talks.cam
BEGIN:VEVENT
SUMMARY:Stripping down science - Dr Chris Smith\, Public Understanding of 
 Science Fellow\, University of Cambridge Institute of Continuing Education
DTSTART:20150323T190000Z
DTEND:20150323T200000Z
UID:TALK57272@talks.cam.ac.uk
CONTACT:Paul Ireland
DESCRIPTION:Chris Smith is a consultant virologist based in the University
  Department of Pathology and in the PHE (Public Health England) diagnostic
  microbiology laboratory at Addenbrooke’s Hospital. He has made a major 
 contribution to the public understanding of science in recent years throug
 h his multi-award-winning Naked Scientists project. Through weekly BBC rad
 io programmes and other avenues\, the Naked Scientists project reaches mil
 lions of people internationally. Since 2007 the radio programme\, which fe
 atures University of Cambridge scientists and researchers\, has been downl
 oaded around 40 million times worldwide. The ‘Naked Scientists’ also c
 ontribute to the Cambridge Science Festival and provide training in public
  engagement and broadcast skills for University staff and students.\n\n*Bo
 oking*\n\nBooking is essential as places are limited:\n\n"Book online via 
 the ICE website":http://www.ice.cam.ac.uk/what-we-do/madingley-lectures/bo
 oking-form
LOCATION:Institute of Continuing Education\, Madingley Hall
END:VEVENT
END:VCALENDAR
