BEGIN:VCALENDAR
VERSION:2.0
PRODID:-//Talks.cam//talks.cam.ac.uk//
X-WR-CALNAME:Talks.cam
BEGIN:VEVENT
SUMMARY:Structural Systems Biology: modelling protein interactions and com
 plexes - Dr Patrick Aloy\, Institute for Research in Biomedicine\, Barcelo
 na
DTSTART:20061129T150000Z
DTEND:20061129T160000Z
UID:TALK5767@talks.cam.ac.uk
CONTACT:Nicholas Luscombe
DESCRIPTION:Much of systems biology aims to predict the behaviour of biolo
 gical systems on the basis of the set of molecules involved. Understanding
  the interactions between these molecules is therefore crucial to such eff
 orts. Although many thousands of interactions are known\, precise molecula
 r details are available for only a tiny fraction of them. The difficulties
  that are involved in experimentally determining atomic structures for int
 eracting proteins make predictive methods essential for progress. Structur
 al details can ultimately turn abstract system representations into models
  that more accurately reflect biological reality.
LOCATION:Shared facilities C209/210
END:VEVENT
END:VCALENDAR
