BEGIN:VCALENDAR
VERSION:2.0
PRODID:-//Talks.cam//talks.cam.ac.uk//
X-WR-CALNAME:Talks.cam
BEGIN:VEVENT
SUMMARY:Don't Believe Everything You Read in the Papers - Professor Marcus
  Munafò\, MRC Integrative Epidemiology Unit\, UK Centre for Tobacco and A
 lcohol Studies\, School of Experimental Psychology\, University of Bristol
DTSTART:20150423T140000Z
DTEND:20150423T150000Z
UID:TALK57936@talks.cam.ac.uk
CONTACT:36054
DESCRIPTION:Abstract not available
LOCATION:Seminar Room\, MRC Human Nutrition Research\, Elsie Widdowson Lab
 oratory\, 120 Fulbourn Road\, Cambridge CB1 9NL
END:VEVENT
END:VCALENDAR
