BEGIN:VCALENDAR
VERSION:2.0
PRODID:-//Talks.cam//talks.cam.ac.uk//
X-WR-CALNAME:Talks.cam
BEGIN:VEVENT
SUMMARY:How does an industrial reviewer assess a grant bid? - Sam Beale\, 
 Pieter Knook and Rick Mitchell\, Visiting Professors of Innovation
DTSTART:20150413T110000Z
DTEND:20150413T130000Z
UID:TALK57978@talks.cam.ac.uk
CONTACT:Jo Griffiths
DESCRIPTION:You’ve put together your bid and you’re sure it’s academ
 ically robust.  But how would an industrial reviewer rate it?  And how cou
 ld an industrial perspective help you to put together a better bid?\n\nCom
 e along to this session to hear from the Engineering Department’s <a hre
 f="http://www.eng.cam.ac.uk/research/strategic-themes/inspiring-research-t
 hrough-industrial-collaboration/raeng-visiting">Visiting Professors of Inn
 ovation  (VPIs)</a> discuss how they’ve helped to improve bids and where
  they see how bids can be improved.  Each of the VPIs brings experience of
  industrial R&D and of assessing bids for research funding.  So here’s a
 n opportunity to hear how such reviewers see the world and what they can d
 o to help you.\n\nMonday 13 April\, with lunch at 12:00\, proceedings star
 t at 12:30\, informal Q&A from 13:30 to 14:00\n\nLecture Room 5\, Engineer
 ing Department\, Trumpington St.\n\nTo attend\, please contact Jo Griffith
 s (jo.griffiths@eng.cam.ac.uk)\, telling her also of any dietary requireme
 nts.\n
LOCATION: Cambridge University Engineering Department\, Lecture Room 5
END:VEVENT
END:VCALENDAR
