BEGIN:VCALENDAR
VERSION:2.0
PRODID:-//Talks.cam//talks.cam.ac.uk//
X-WR-CALNAME:Talks.cam
BEGIN:VEVENT
SUMMARY:Representations of Meaning - Yarin Gal
DTSTART:20150222T160000Z
DTEND:20150222T163000Z
UID:TALK58157@talks.cam.ac.uk
CONTACT:Mary Fortune
DESCRIPTION:Abstract not available
LOCATION:Winstanley Lecture Theatre\, Trinity College
END:VEVENT
END:VCALENDAR
