BEGIN:VCALENDAR
VERSION:2.0
PRODID:-//Talks.cam//talks.cam.ac.uk//
X-WR-CALNAME:Talks.cam
BEGIN:VEVENT
SUMMARY:Religion\, Culture & Mental Health: Jewish & Protestant Views on A
 lcoholism - Professor Kate Loewenthal\, Professor of Psychology\, Royal Ho
 lloway University of London
DTSTART:20061031T193000Z
DTEND:20061031T203000Z
UID:TALK5818@talks.cam.ac.uk
CONTACT:Reuven Leigh
DESCRIPTION:Professor Loewenthal is interested in religious behaviour\, an
 d in religious\, cultural and gender issues in health and mental health. H
 er newest book 'Religion\, Culture and Mental Health' will be published by
  Cambridge University Press in December.\n
LOCATION:Chabad House\, 37A Caslte Street\, Cambridge\, CB30AH
END:VEVENT
END:VCALENDAR
