BEGIN:VCALENDAR
VERSION:2.0
PRODID:-//Talks.cam//talks.cam.ac.uk//
X-WR-CALNAME:Talks.cam
BEGIN:VEVENT
SUMMARY:Physical Aspects of Evolutionary Transitions to Multicellularity -
  Professor Raymond E. Goldstein\, Department of Applied Mathematics and Th
 eoretical Physics\, Cambridge
DTSTART:20061115T161500Z
DTEND:20061115T173000Z
UID:TALK5820@talks.cam.ac.uk
CONTACT:Professor Mark Warner
DESCRIPTION:Abstract not available
LOCATION:Pippard Lecture Theatre\, Cavendish Laboratory\, Department of Ph
 ysics
END:VEVENT
END:VCALENDAR
