BEGIN:VCALENDAR
VERSION:2.0
PRODID:-//Talks.cam//talks.cam.ac.uk//
X-WR-CALNAME:Talks.cam
BEGIN:VEVENT
SUMMARY:Divisor braids and gauge theory - Nuno  Romao (Goettingen)
DTSTART:20150407T150000Z
DTEND:20150407T160000Z
UID:TALK58717@talks.cam.ac.uk
CONTACT:Professor Maciej Dunajski
DESCRIPTION:Abstract not available
LOCATION:MR11
END:VEVENT
END:VCALENDAR
