BEGIN:VCALENDAR
VERSION:2.0
PRODID:-//Talks.cam//talks.cam.ac.uk//
X-WR-CALNAME:Talks.cam
BEGIN:VEVENT
SUMMARY:MHC class I : From viral evasion to cellular quality control? - Dr
  Lidia Duncan\, CIMR\, University of Cambridge
DTSTART:20150603T113000Z
DTEND:20150603T123000Z
UID:TALK59069@talks.cam.ac.uk
CONTACT:Sue Griffin
DESCRIPTION:Abstract not available
LOCATION:Lecture Theatre\, Department of Pathology\, Tennis Court Road
END:VEVENT
END:VCALENDAR
