BEGIN:VCALENDAR
VERSION:2.0
PRODID:-//Talks.cam//talks.cam.ac.uk//
X-WR-CALNAME:Talks.cam
BEGIN:VEVENT
SUMMARY:The Threat of Love\, or\, Why Everyone Should Run Away From Cupid 
 - Adam Kay (Faculty of Modern and Medieval Languages)
DTSTART:20061116T193000Z
DTEND:20061116T210000Z
UID:TALK5919@talks.cam.ac.uk
CONTACT:4641
DESCRIPTION:Abstract not available
LOCATION:MCR\, Clare College
END:VEVENT
END:VCALENDAR
