BEGIN:VCALENDAR
VERSION:2.0
PRODID:-//Talks.cam//talks.cam.ac.uk//
X-WR-CALNAME:Talks.cam
BEGIN:VEVENT
SUMMARY:Zero Carbon City Dongtan - Dr Neil Kirkpatrick\, Associate Directo
 r\, Arup
DTSTART:20061127T193000Z
DTEND:20061127T210000Z
UID:TALK5922@talks.cam.ac.uk
CONTACT:4644
DESCRIPTION:Zero carbon developments... What can be achieved in practice?\
 n"Poster":http://www.zerocarbonnow.org/cam/2006-11-27_Zero_Carbon_City_Don
 gtan.pdf\n\n19:30\, Monday 27th November\n\nChemical Engineering Departmen
 t LT1\, New Museum Site\, Pembroke Street\, CB2 3RA: "Map":http://www.cam.
 ac.uk/map/v4/drawmap.cgi?mp=nmus\;xx=238\;yy=311\;mt=c\n\nDr Neil Kirkpatr
 ick\, Associate Director\, Arup\, will describe the latest developments\ni
 n building design and master planning that  are  helping to decrease carbo
 n emissions\ntowards zero.\n\nArup are designing the world's first eco-cit
 y - Dongtan\, China.   Dongtan is to be a\ncompletely sustainable and carb
 on neutral  city  near Shanghai. Transport\, energy\,\ninfrastructure and 
 social  issues  are just a few of the aspects to be considered in\nits  de
 sign. This  is ground-breaking work\, set to pave the way for  new city \n
 developments in the future.\n\n\n\n
LOCATION:Chemical Engineering Department LT1
END:VEVENT
END:VCALENDAR
