BEGIN:VCALENDAR
VERSION:2.0
PRODID:-//Talks.cam//talks.cam.ac.uk//
X-WR-CALNAME:Talks.cam
BEGIN:VEVENT
SUMMARY:Splitting-particle methods for structured population models - Piot
 r Gwiazda (University of Warsaw)
DTSTART:20150528T140000Z
DTEND:20150528T150000Z
UID:TALK59304@talks.cam.ac.uk
CONTACT:6743
DESCRIPTION:Abstract not available
LOCATION:MR 14\, CMS
END:VEVENT
END:VCALENDAR
