BEGIN:VCALENDAR
VERSION:2.0
PRODID:-//Talks.cam//talks.cam.ac.uk//
X-WR-CALNAME:Talks.cam
BEGIN:VEVENT
SUMMARY:7th Risk Summit - Cambridge Centre for Risk Studies - For full age
 nda\,  please click on the link: 
DTSTART:20160620T080000Z
DTEND:20160620T210000Z
UID:TALK59527@talks.cam.ac.uk
CONTACT:Crystal
DESCRIPTION:*Two Day Event*\n\nIn June 2016 the Cambridge Centre for Risk 
 Studies will bring together leaders and decision makers from businesses\, 
 governments\, academia and NGOs to explore salient topics in risk manageme
 nt. The summit will be held at the University of Cambridge Judge Business 
 School with a conference dinner following at Trinity Hall College\, Cambri
 dge.\n\nThis year's summit theme is Risk Culture: Challenging Individual A
 gency\, and will explore the meaning of risk culture and its contribution 
 to governance and responsibility in organisations. In the wake of several 
 public incidents of corporate misconduct\, there has been a growing focus 
 on risk culture management as a complementary approach to improving indivi
 dual agency and accountability within both private companies and public bo
 dies. It has now been proposed that the maintenance of good corporate beha
 viour and responsible attitudes in firms will ensure that its individual e
 mployees engage in higher ethical standards and appropriate levels of risk
  taking in the future. Over two days\, the Risk Summit will aim to shed li
 ght on the new debate over the need for risk culture management: what it i
 s\, how effective it can be and on what scale\, and whether there is a nee
 d for its regulation.\n\nKeynote speakers include:\n\n     Professor Micha
 el Power\, Professor of Accounting at London School of Economics\, and Dir
 ector of RIT Capital Partners\n    Professor Dan M. Kahan\, Elizabeth K. D
 ollard Professor of Law & Professor of Psychology\, Yale Law School\n
LOCATION:Cambridge Judge Business School
END:VEVENT
END:VCALENDAR
