BEGIN:VCALENDAR
VERSION:2.0
PRODID:-//Talks.cam//talks.cam.ac.uk//
X-WR-CALNAME:Talks.cam
BEGIN:VEVENT
SUMMARY:Genome packaging: is that enough to explain the caste plasticity i
 n social insects? - Solenn Patalano\, Babraham Institute Cambridge  
DTSTART:20160301T160000Z
DTEND:20160301T170000Z
UID:TALK59977@talks.cam.ac.uk
CONTACT:Dr Hannah Rowland
DESCRIPTION:Abstract not yet available. Information on Dr. Patalano's rese
 arch on "the epigenetic mechanisms underlying genomic regulation and varia
 bility across individuals in social insects" can be found here: http://www
 .babraham.ac.uk/our-research/epigenetics/wolf-reik/members/256/solenn-pata
 lano
LOCATION:Part II Lecture Theatre\, Department of Zoology
END:VEVENT
END:VCALENDAR
