BEGIN:VCALENDAR
VERSION:2.0
PRODID:-//Talks.cam//talks.cam.ac.uk//
X-WR-CALNAME:Talks.cam
BEGIN:VEVENT
SUMMARY:Hack the Lab: data visualisation - Various
DTSTART:20150704T110000Z
DTEND:20150704T160000Z
UID:TALK60026@talks.cam.ac.uk
CONTACT:Jennifer Molloy
DESCRIPTION:Hack the Lab is a monthly meetup and co-working session for op
 en technologies in science\, particularly hardware.\n\n* 12:00 Talks and d
 emos on creative data visualisation\n* 13:30 Lunch (pizza available for £
 4 contribution)\n* 14:30 Co-working on projects\n* 17:00 Close\n\nMore inf
 o and RSVP: http://www.meetup.com/Cambridge-Synthetic-Biology-Meetup/event
 s/223034950/
LOCATION:Makespace Classroom\, 16 Mill Lane\, Cambridge\, CB2 1RX 
END:VEVENT
END:VCALENDAR
