BEGIN:VCALENDAR
VERSION:2.0
PRODID:-//Talks.cam//talks.cam.ac.uk//
X-WR-CALNAME:Talks.cam
BEGIN:VEVENT
SUMMARY:TB Summit 2016 - Speaker to be confirmed
DTSTART:20160621T080000Z
DTEND:20160621T160000Z
UID:TALK60408@talks.cam.ac.uk
CONTACT:Speaker to be confirmed
DESCRIPTION:This annual three day event will explore new research into TB 
 detection\, treatment and vaccination as well as new development in contro
 lling and preventing Mycobacterium tuberculosis Infection.\n\nWith an info
 rmal academic atmosphere and international speakers\, it is the perfect en
 vironment for debate and discussion.
LOCATION:Cineworld: The O2\, Peninsula Square\, London\, SE10 0DX
END:VEVENT
END:VCALENDAR
