BEGIN:VCALENDAR
VERSION:2.0
PRODID:-//Talks.cam//talks.cam.ac.uk//
X-WR-CALNAME:Talks.cam
BEGIN:VEVENT
SUMMARY:Playboys\, Shirkers and Baby-killers: the darker side of 'helpers'
  in meerkat societies - Dr Andrew Young\, Department of Zoology\, Universi
 ty of Cambridge
DTSTART:20070207T163000Z
DTEND:20070207T173000Z
UID:TALK6128@talks.cam.ac.uk
CONTACT:4872
DESCRIPTION:*PLEASE NOTE THAT THIS LECTURE HAS BEEN CANCELLED* 
LOCATION:Lecture Theatre 1\, Department of Veterinary Medicine
END:VEVENT
END:VCALENDAR
