BEGIN:VCALENDAR
VERSION:2.0
PRODID:-//Talks.cam//talks.cam.ac.uk//
X-WR-CALNAME:Talks.cam
BEGIN:VEVENT
SUMMARY:The Buddhist Concept of Kamma and Rebirth - Ven. Sooriyawewa Khusa
 la Thero
DTSTART:20151011T170000Z
DTEND:20151011T181000Z
UID:TALK61412@talks.cam.ac.uk
CONTACT:Himantha Cooray
DESCRIPTION:Kamma (also known as karma) is a key teaching in Buddhism. In 
 this talk\, Ven. Sooriyawewa Kusala Thero from the Letchworth Buddhist Tem
 ple will introduce different levels of Kamma and explain how it affects th
 e rebirth according to Buddhism. It will be followed by a discussion and r
 efreshments.\n\nThe talk will be part of a special "Dhamma Evening" beginn
 ing at 17:00 with Buddhist chanting and a guided meditation. You are welco
 me to take part in the whole event or just come for the talk at 18:00.\n\n
 This event is open to all.
LOCATION:MCR\, Murray Edwards College
END:VEVENT
END:VCALENDAR
