BEGIN:VCALENDAR
VERSION:2.0
PRODID:-//Talks.cam//talks.cam.ac.uk//
X-WR-CALNAME:Talks.cam
BEGIN:VEVENT
SUMMARY:A.F. Harrold: The Imaginary - a story about the power of imaginati
 on - Speaker to be confirmed
DTSTART:20151024T140000Z
DTEND:20151024T150000Z
UID:TALK61712@talks.cam.ac.uk
CONTACT:Sohye Park
DESCRIPTION:Only Amanda can see her imaginary friend – until the siniste
 r Mr Bunting arrives at Amanda’s door. Mr Bunting hunts imaginaries. Rum
 our says that he eats them. And he’s sniffed out Rudger. Soon Rudger is 
 alone\, and running for his imaginary life. But can a boy who isn’t ther
 e survive without a friend to dream him up.\n\n
LOCATION:Lady Mitchell Hall\, Sidgwick Site Sidgwick Avenue\, CB3 9DA
END:VEVENT
END:VCALENDAR
