BEGIN:VCALENDAR
VERSION:2.0
PRODID:-//Talks.cam//talks.cam.ac.uk//
X-WR-CALNAME:Talks.cam
BEGIN:VEVENT
SUMMARY:Researching Global Labour Movements: Where do Digital Methods Fit 
 in? - Dr Anne Alexander (Digital Humanities Network\, University of Cambri
 dge) and Dr Jenny Chan (Contemporary China Studies\, University of Oxford)
DTSTART:20151019T103000Z
DTEND:20151019T143000Z
UID:TALK61745@talks.cam.ac.uk
CONTACT:Ella McPherson
DESCRIPTION:A Digital Methods Development Workshop organised by the Resear
 ching (with) Social Media Reading Group and the Cambridge Digital Humaniti
 es Network in collaboration with the Dying for an iPhone project\n\nMore i
 nformation and to register: http://www.digitalhumanities.cam.ac.uk/events/
 globallabourmethodsworkshop\n
LOCATION:B4\, Institute of Criminology
END:VEVENT
END:VCALENDAR
