BEGIN:VCALENDAR
VERSION:2.0
PRODID:-//Talks.cam//talks.cam.ac.uk//
X-WR-CALNAME:Talks.cam
BEGIN:VEVENT
SUMMARY:“Biostatistician behind bars: by design and on trial” - Profes
 sor Sheila M. Bird\, MRC Biostatistics Unit
DTSTART:20151126T173000Z
DTEND:20151126T193000Z
UID:TALK61877@talks.cam.ac.uk
CONTACT:Alison Quenault
DESCRIPTION:Abstract not available
LOCATION:Emmanuel College\, St Andrew’s Street\, Cambridge CB2 3AP
END:VEVENT
END:VCALENDAR
