BEGIN:VCALENDAR
VERSION:2.0
PRODID:-//Talks.cam//talks.cam.ac.uk//
X-WR-CALNAME:Talks.cam
BEGIN:VEVENT
SUMMARY:Executive control and its disorders - James Rowe\, MRC Cognition a
 nd Brain Science Unit
DTSTART:20151130T160000Z
DTEND:20151130T173000Z
UID:TALK61979@talks.cam.ac.uk
CONTACT:Deborah McSkimming
DESCRIPTION:Abstract not available
LOCATION:Nick Mackintosh Seminar Room\, Department of Psychology\, Downing
  Site\, Cambridge
END:VEVENT
END:VCALENDAR
