BEGIN:VCALENDAR
VERSION:2.0
PRODID:-//Talks.cam//talks.cam.ac.uk//
X-WR-CALNAME:Talks.cam
BEGIN:VEVENT
SUMMARY:Industry meets emerging science 2 - Chris Pearson\, Department of 
 Engineering
DTSTART:20151124T180000Z
DTEND:20151124T203000Z
UID:TALK62123@talks.cam.ac.uk
CONTACT:Chris Pearson
DESCRIPTION:*Are you at an early stage in your research career?*\n \n*Do y
 ou have research currently under-way that could be applied in healthcare?*
 \n \n*Do you want to present your research to members of the Cambridge Net
 work?*\n \nIf so\, then Industry meets emerging science 2 gives you the op
 portunity to present to over 100 representatives from local businesses in 
 the Cambridge Network. Hosted by Prof. Sir Mark Welland and Dr Herman Haus
 er\, speakers from Departments across the University will give two minute 
 presentations on their current research\, followed by the opportunity to m
 eet the representatives one-to-one over drinks. While aimed at members of 
 the Cambridge Network\, this is a public event and speakers should ensure 
 that any results presented have already been published or otherwise protec
 ted. \n \nFor more information\, please contact Chris Pearson (cp349@cam.a
 c.uk) or Paula Cawkill (paula.cawkill@admin.cam.ac.uk ). To apply\, please
  complete the attached application form and return to Chris by 2nd Novembe
 r 2015.\n
LOCATION:Hauser Forum\, West Cambridge\, CB3 0GT
END:VEVENT
END:VCALENDAR
