BEGIN:VCALENDAR
VERSION:2.0
PRODID:-//Talks.cam//talks.cam.ac.uk//
X-WR-CALNAME:Talks.cam
BEGIN:VEVENT
SUMMARY:Future Energy Needs and Engineering Reality - Professor Michael Ke
 lly ( Centre for Advanced Photonics and Electronics\, University of Cambri
 dge)
DTSTART:20151030T170000Z
DTEND:20151030T183000Z
UID:TALK62145@talks.cam.ac.uk
CONTACT:39295
DESCRIPTION:The climate science community has convinced many policymakers 
 and politicians of the need to decarbonise the world economy in short orde
 r. Their case\, and whether it is credible or not\, is not the issue in th
 is presentation\, but rather some of the lessons of the recent history of 
 technology evolution that should not be lost in the rush.\n\nThere are rul
 es concerning the introduction of new technologies\, and there are penalti
 es for flouting them. If we are setting out to decarbonise the world econo
 my\, we should set out as if we mean to succeed\, and not\, as now\, take 
 actions that will certainly not succeed
LOCATION: Lecture Theatre\, Trinity Hall.
END:VEVENT
END:VCALENDAR
