BEGIN:VCALENDAR
VERSION:2.0
PRODID:-//Talks.cam//talks.cam.ac.uk//
X-WR-CALNAME:Talks.cam
BEGIN:VEVENT
SUMMARY:Immuno-oncology – current activities and future opportunities - 
 Robert Wilkinson\, Edd Poon and Simon Barry
DTSTART:20151116T163000Z
DTEND:20151116T180000Z
UID:TALK62196@talks.cam.ac.uk
CONTACT:Claus Bendtsen
DESCRIPTION:As part of our Science@Darwin seminars we are hosting a sessio
 n on immuno-oncology with a focus on some of our current activities as wel
 l as what we see as future opportunities.\n\nCome along and hear from some
  of our leading scientist about:\n•	Immuno-oncology Background Science a
 nd Durvalumab (MEDI4736)\, an anti–PD-L1 antibody by Robert Wilkinson\n
 •	Targeted therapies: preclinical assessment of immunobiology and combin
 ation potential with checkpoint inhibitors by Edd Poon\n•	Small molecule
  opportunities to enhance anti-tumour immunity and the tumour microenviron
 ment by Simon Barry\n\nWe will open the doors from 4.00pm\, talks 4.30pm-6
 pm followed by general networking and refreshments. Please register at htt
 ps://www.eventbrite.co.uk/event/19226769786\n\n
LOCATION:Building 310 on the Cambridge Science Park
END:VEVENT
END:VCALENDAR
