BEGIN:VCALENDAR
VERSION:2.0
PRODID:-//Talks.cam//talks.cam.ac.uk//
X-WR-CALNAME:Talks.cam
BEGIN:VEVENT
SUMMARY:The antigenic and genetic evolution of influenza viruses - Derek S
 mith\, University of Cambridge (UK)
DTSTART:20070315T140000Z
DTEND:20070315T150000Z
UID:TALK6224@talks.cam.ac.uk
CONTACT:4850
DESCRIPTION:Abstract not available
LOCATION:Part II Room\, Department of Genetics
END:VEVENT
END:VCALENDAR
