BEGIN:VCALENDAR
VERSION:2.0
PRODID:-//Talks.cam//talks.cam.ac.uk//
X-WR-CALNAME:Talks.cam
BEGIN:VEVENT
SUMMARY:Lesung mit Benedict Wells - Benedict Wells
DTSTART:20151127T180000Z
DTEND:20151127T190000Z
UID:TALK62603@talks.cam.ac.uk
CONTACT:26557
DESCRIPTION:Die Cambridge University German Society lädt euch herzlich ei
 n zu einer Lesung mit dem Autoren Benedict Wells\, der als "Ausnahmetalent
  in der jungen deutschen Literatur" (ZDF) gilt.\n\nBenedict Wells wurde 19
 84 in München geboren. Mit sechs Jahren begann seine Reise durch drei bay
 erische Internate. Nach dem Abitur 2003 zog er nach Berlin. Dort entschied
  er sich gegen ein Studium und widmete sich dem Schreiben. Sein vielbeacht
 etes Debüt ›Becks letzter Sommer‹ erschien 2008 im Diogenes Verlag. E
 s wurde mit dem Bayerischen Kunstförderpreis ausgezeichnet und dieses Jah
 r mit Christian Ulmen in der Hauptrolle fürs Kino verfilmt. Wells war dam
 als mit 23 Jahren der jüngste Autor\, der je bei Diogenes unter Vertrag s
 tand. Sein dritter Roman ›Fast genial‹ war monatelang auf der Bestsell
 erliste.\n\nBei unserer Veranstaltung am 27. November wird Benedict Wells 
 aus seinem Roman ›Becks letzter Sommer‹ lesen und anschließend eure F
 ragen beantworten. Das Buch erfuhr hohe Beachtung in der Literaturkritik\,
  DIE ZEIT nannte es "das interessanteste Debüt des Jahres". Mehr zum Inha
 lt findet ihr hier: http://www.diogenes.ch/leser/katalog/a-z/b/97832570667
 60/buch\n\nBitte beachtet\, dass die Lesung auf Deutsch stattfinden wird.\
 n\nIhr seid alle herzlich willkommen! Wir freuen uns auf euch!\n\nFacebook
  Event: https://www.facebook.com/events/1508823186083433/
LOCATION:Buckingham Room\, Magdalene College
END:VEVENT
END:VCALENDAR
