BEGIN:VCALENDAR
VERSION:2.0
PRODID:-//Talks.cam//talks.cam.ac.uk//
X-WR-CALNAME:Talks.cam
BEGIN:VEVENT
SUMMARY:The German Reaction to Fukushima  - Christian Growitsch (U. of Ham
 burg) 
DTSTART:20160308T123000Z
DTEND:20160308T140000Z
UID:TALK63084@talks.cam.ac.uk
CONTACT:41798
DESCRIPTION:Abstract not available
LOCATION:Alison Richard Building\, Sidgwick Site\, Seminar Room SG1
END:VEVENT
END:VCALENDAR
