BEGIN:VCALENDAR
VERSION:2.0
PRODID:-//Talks.cam//talks.cam.ac.uk//
X-WR-CALNAME:Talks.cam
BEGIN:VEVENT
SUMMARY:“Managing Technical Uncertainty and Risk to generate Business Va
 lue” - Dr Gary Smith\, INVISTA Intermediates Vice President of Sustainab
 ility
DTSTART:20160128T130000Z
DTEND:20160128T140000Z
UID:TALK63101@talks.cam.ac.uk
CONTACT:Elena Gonzalez
DESCRIPTION:Managing Technical Uncertainty and Risk successfully is at the
  heart of being a practicing process engineer. This talk will aim to addre
 ss through real industrial examples how this can be done\; and some key le
 arnings that may be drawn. The speaker will also attempt to illustrate the
  different approaches to technical uncertainty/risk management that can be
  applied at the various stages of the product/process development lifecycl
 e from discovery/R&D through to final commercialisation.   
LOCATION:Dept Chemical Engineering and Biotechnology\, Pembroke St\, New M
 useums Site\, Shell Building\, Lecture Theatre 1
END:VEVENT
END:VCALENDAR
