BEGIN:VCALENDAR
VERSION:2.0
PRODID:-//Talks.cam//talks.cam.ac.uk//
X-WR-CALNAME:Talks.cam
BEGIN:VEVENT
SUMMARY:A V HILL LECTURE - Oxygen sensing: from worms to people and genes 
 to drugs - Professor Patrick Maxwell DPhil FRCP FMedSci\, Regius Professor
  of Physic\, School of Clinical Medicine
DTSTART:20160125T180000Z
DTEND:20160125T190000Z
UID:TALK63108@talks.cam.ac.uk
CONTACT:Beverley Larner
DESCRIPTION:Abstract: We have used biochemical methods and genetic approac
 hes in a variety of organisms ranging from worms to man to investigate how
  cells sense oxygen\, and what they do in response to changes in its avail
 ability.  This has uncovered a highly conserved pathway which operates in 
 all metazoans.  It is important in development\, physiology and disease 
 – perhaps most notably in cancer.  The underlying oxygen sensing mechani
 sm can be activated by small molecules which are now being tested as thera
 pies for anaemia and ischaemic conditions.
LOCATION:Bristol-Myers Squibb Lecture Theatre\, Department of Chemistry
END:VEVENT
END:VCALENDAR
