BEGIN:VCALENDAR
VERSION:2.0
PRODID:-//Talks.cam//talks.cam.ac.uk//
X-WR-CALNAME:Talks.cam
BEGIN:VEVENT
SUMMARY:Ellen McArthur Lecture: Eve Also Delved: Gendering Economic Histor
 y (4) - Professor Jane Humphries (Oxford)
DTSTART:20160302T170000Z
DTEND:20160302T190000Z
UID:TALK63135@talks.cam.ac.uk
CONTACT:31344
DESCRIPTION:*4. The nature and causes of the male breadwinner family*\n\nL
 ecture 4 returns to a longstanding debate in economic history and gender s
 tudies in terms of the chronology\, nature\, causes\, and consequences of 
 the rise of the male-breadwinner family structure.  It will revisit this d
 ebate drawing on earlier work with Sara Horrell as well as recent research
  findings including ideas and arguments discussed in the earlier lectures.
LOCATION:LG18\, Faculty of Law\, Sidgwick Site\, 10 West Rd\, Cambridge\, 
 CB3 9DZ
END:VEVENT
END:VCALENDAR
