BEGIN:VCALENDAR
VERSION:2.0
PRODID:-//Talks.cam//talks.cam.ac.uk//
X-WR-CALNAME:Talks.cam
BEGIN:VEVENT
SUMMARY:Intermediate steps of the respirasome assembly pathway: Gaining in
 sight into the structural interdependences among respiratory chain complex
 es  - Dr Christine Ugalde\, Instituto de Investigacion Sanitaria\, Madrid\
 , Spain
DTSTART:20160420T140000Z
DTEND:20160420T150000Z
UID:TALK63393@talks.cam.ac.uk
CONTACT:Penny Peck
DESCRIPTION:Abstract not available
LOCATION:Sackler Lecture Theatre (Level 7) Wellcome Trust/MRC Building\, A
 ddenbrooke's Site
END:VEVENT
END:VCALENDAR
