BEGIN:VCALENDAR
VERSION:2.0
PRODID:-//Talks.cam//talks.cam.ac.uk//
X-WR-CALNAME:Talks.cam
BEGIN:VEVENT
SUMMARY:Investigating Defective Anatase Surfaces Using Linear Scaling Dens
 ity Functional Theory - Edward Tait (TCM)
DTSTART:20160113T114000Z
DTEND:20160113T120000Z
UID:TALK63411@talks.cam.ac.uk
CONTACT:Joseph Nelson
DESCRIPTION:Abstract not available
LOCATION:TCM Seminar Room\, Cavendish Laboratory
END:VEVENT
END:VCALENDAR
