BEGIN:VCALENDAR
VERSION:2.0
PRODID:-//Talks.cam//talks.cam.ac.uk//
X-WR-CALNAME:Talks.cam
BEGIN:VEVENT
SUMMARY:Production Processes Seminar - "Continuous manufacturing of pharma
 ceuticals and opportunities for inkjet printing" - Ronan Daly & Tomás Har
 rington
DTSTART:20160205T113000Z
DTEND:20160205T123000Z
UID:TALK63661@talks.cam.ac.uk
CONTACT:37139
DESCRIPTION:Abstract not available
LOCATION:Seminar Room 1 at the Institute for Manufacturing\, 17 Charles Ba
 bbage Road
END:VEVENT
END:VCALENDAR
