BEGIN:VCALENDAR
VERSION:2.0
PRODID:-//Talks.cam//talks.cam.ac.uk//
X-WR-CALNAME:Talks.cam
BEGIN:VEVENT
SUMMARY:Network Coding: An introduction to network coding and random linea
 r codes - Raahil Shah\, Churchill College
DTSTART:20160203T203000Z
DTEND:20160203T210000Z
UID:TALK63683@talks.cam.ac.uk
CONTACT:Matthew Ireland
DESCRIPTION:Abstract not available
LOCATION:Wolfson Hall\, Churchill College
END:VEVENT
END:VCALENDAR
