BEGIN:VCALENDAR
VERSION:2.0
PRODID:-//Talks.cam//talks.cam.ac.uk//
X-WR-CALNAME:Talks.cam
BEGIN:VEVENT
SUMMARY:On the nature of friction in\na stratified rotating fluid - Kurt P
 olzin\,  Woods Hole
DTSTART:20070223T160000Z
DTEND:20070223T170000Z
UID:TALK6415@talks.cam.ac.uk
CONTACT:Nigel Peake
DESCRIPTION:Abstract not available
LOCATION:MR2\, Centre for Mathematical Sciences
END:VEVENT
END:VCALENDAR
