BEGIN:VCALENDAR
VERSION:2.0
PRODID:-//Talks.cam//talks.cam.ac.uk//
X-WR-CALNAME:Talks.cam
BEGIN:VEVENT
SUMMARY:“New Developments in Molecular Imaging of Prostate Cancer” - P
 rofessor Wim Oyen\, Professor of Nuclear Medicine and Molecular Imaging an
 d Team Leader in Translational Molecular Imaging\, Institute of Cancer Res
 earch
DTSTART:20160309T170000Z
DTEND:20160309T180000Z
UID:TALK64174@talks.cam.ac.uk
CONTACT:Mala Jayasundera
DESCRIPTION:Abstract not available
LOCATION:Barret 
END:VEVENT
END:VCALENDAR
