BEGIN:VCALENDAR
VERSION:2.0
PRODID:-//Talks.cam//talks.cam.ac.uk//
X-WR-CALNAME:Talks.cam
BEGIN:VEVENT
SUMMARY:Geometrization of the local Langlands correspondence - Laurent Far
 gues (CNRS/Jussieu)
DTSTART:20160209T141500Z
DTEND:20160209T151500Z
UID:TALK64258@talks.cam.ac.uk
CONTACT:Jack Thorne
DESCRIPTION:Given a discrete Langlands parameter of a reductive p-adic gro
 up I conjecture the existence\nof a perverse l-adic sheaf on the stack of 
 G-bundles on the curve we defined and studied in our joint work with\nFont
 aine. I will explain this conjecture\, some consequences and some motivati
 ons.
LOCATION:MR13\, Centre for Mathematical Sciences
END:VEVENT
END:VCALENDAR
