BEGIN:VCALENDAR
VERSION:2.0
PRODID:-//Talks.cam//talks.cam.ac.uk//
X-WR-CALNAME:Talks.cam
BEGIN:VEVENT
SUMMARY:"Mechanisms and Pathways of microbe-host crosstalk in the GI tract
 " - Simon Carding\, IFR Norwich
DTSTART:20160226T130000Z
DTEND:20160226T140000Z
UID:TALK64331@talks.cam.ac.uk
CONTACT:Dr Janine Wilkinson
DESCRIPTION:Abstract not available
LOCATION:Sackler Lecture Theatre (Level 7)\, Cambridge Institute for Medic
 al Research
END:VEVENT
END:VCALENDAR
