BEGIN:VCALENDAR
VERSION:2.0
PRODID:-//Talks.cam//talks.cam.ac.uk//
X-WR-CALNAME:Talks.cam
BEGIN:VEVENT
SUMMARY:"A cute" story of laxity - Dr Carolyn Smith
DTSTART:20160217T133000Z
DTEND:20160217T140000Z
UID:TALK64382@talks.cam.ac.uk
CONTACT:Mark Wills
DESCRIPTION:Specialist Lead: \nProf Martin Bennett\n\nLead Consultant: Dr 
 Rosemary Rusk \n\nPresenter:Dr Carolyn Smith\n
LOCATION:William Harvey Lecture Theatre
END:VEVENT
END:VCALENDAR
