BEGIN:VCALENDAR
VERSION:2.0
PRODID:-//Talks.cam//talks.cam.ac.uk//
X-WR-CALNAME:Talks.cam
BEGIN:VEVENT
SUMMARY:Brassinosteroids\, stem cell development and the power of Modulate
  Quiescence in Plants - Ana Caño Delgado\, CRAG-CSIC\, Barcelona\, Spain
DTSTART:20160225T100000Z
DTEND:20160225T110000Z
UID:TALK64443@talks.cam.ac.uk
CONTACT:Helen Mawdsley
DESCRIPTION:Abstract not available
LOCATION:Auditorium of The Sainsbury Laboratory (Bateman Street)
END:VEVENT
END:VCALENDAR
