BEGIN:VCALENDAR
VERSION:2.0
PRODID:-//Talks.cam//talks.cam.ac.uk//
X-WR-CALNAME:Talks.cam
BEGIN:VEVENT
SUMMARY:Flight\, flow and gaze control:  Design principles of fly stabiliz
 ation reflexes - Professor Holger G. Krapp\, Dept. of Bioengineering\, Imp
 erial College\, London
DTSTART:20160426T120000Z
DTEND:20160426T130000Z
UID:TALK64548@talks.cam.ac.uk
CONTACT:John Mollon
DESCRIPTION:Sensory information is vital for the control of locomotion\, b
 alance\, and gaze. To maintain flight stability and a level gaze true flie
 s estimate their attitude changes using a variety of visual and mechanosen
 sory systems including compound eyes\, simple lens eyes\, and gyroscopic h
 alteres. How are signals provided by multiple sensory systems integrated a
 nd transformed into commands suited to control specific motor systems?  To
  address this question we combine quantitative behavioural experiments\, e
 lectrophysiological studies\, and the functional characterization of motor
  system anatomy with software and hardware simulations.  In my seminar I w
 ill review some of our results and emphasize the significance of a multi-l
 evel systems approach to reveal general design principles underlying the e
 fficiency and robustness of fly sensorimotor control.
LOCATION:Kenneth Craik Room\, Craik-Marshall Building\, Downing Site
END:VEVENT
END:VCALENDAR
