BEGIN:VCALENDAR
VERSION:2.0
PRODID:-//Talks.cam//talks.cam.ac.uk//
X-WR-CALNAME:Talks.cam
BEGIN:VEVENT
SUMMARY:Diagonal cycles and triple L-series - Professor S. Zhang (Columbia
  University)
DTSTART:20070221T170000Z
DTEND:20070221T180000Z
UID:TALK6456@talks.cam.ac.uk
CONTACT:4993
DESCRIPTION:For a smooth and projective curve\, Gross and Schoen\nhave con
 structed a (modified and cohomologically trivial) diagonal cycle.\nIn modu
 lar curve case\, Gross and Kulda have conjectured that the heights\nof the
  Hecke components  of this cycle are related to the derivatives\nof triple
  L-series of  modular forms. In this talk\, I will  outline a\nproof of th
 e conjecture\,  and explain some consequences in\nBeilinson-Bloch conjectu
 re and Bogomolov conjecture.
LOCATION:Wolfson Room (MR 2) Centre for Mathematical Sciences\, Wilberforc
 e Road\, Cambridge
END:VEVENT
END:VCALENDAR
