BEGIN:VCALENDAR
VERSION:2.0
PRODID:-//Talks.cam//talks.cam.ac.uk//
X-WR-CALNAME:Talks.cam
BEGIN:VEVENT
SUMMARY:Effective Environmentalism: Symposium with Humanitas Visiting Prof
 essor in Sustainability Studies - Paul Ferraro\, Cornell
DTSTART:20160311T140000Z
DTEND:20160311T170000Z
UID:TALK64828@talks.cam.ac.uk
CONTACT:19914
DESCRIPTION:Paul Ferraro\, the Humanitas Visiting Professor in Sustainabil
 ity Studies 2015-16\, will participate in a concluding symposium with invi
 ted guest speakers. They will discuss  effective environmentalism and how 
  the use of the behavioural sciences and economics may lead to  smarter en
 vironmental solutions.\n\nConfirmed Speakers\nProfessor Andreas Kontoleon 
 (Land Economy\, Cambridge)\nProfessor Laurent Mermet (AgroParisTech)\nDr J
 ames Vause (UNEP World Conservation Monitoring Centre)\nDr Lynn Dicks (Zoo
 logy\, Cambridge)\n\nChair: Dr Bhaskar Vira (Director of Cambridge Conserv
 ation Research  Institute)\n\nPlease register for this event: https://webs
 ervices.admin.cam.ac.uk/cbk/vmeh/index.cgi
LOCATION:David Attenborough Building\, New Museums Site
END:VEVENT
END:VCALENDAR
