BEGIN:VCALENDAR
VERSION:2.0
PRODID:-//Talks.cam//talks.cam.ac.uk//
X-WR-CALNAME:Talks.cam
BEGIN:VEVENT
SUMMARY:Anvil: building web apps in a browser using Python - Ian Davies an
 d Meredydd Luff
DTSTART:20160425T130500Z
DTEND:20160425T135500Z
UID:TALK65009@talks.cam.ac.uk
CONTACT:Andrew Rice
DESCRIPTION:Anvil is a new tool for building web apps quickly in Python. W
 e will talk about smoothing the rough edges off the monster that is modern
  web development\, sandboxing untrusted code\, linking to existing remote 
 code\,\nand the delights of compiling multi-threaded\, blocking Python to 
 single-threaded\, non-blocking JavaScript.
LOCATION:Room SS03\, Computer Laboratory\, William Gates Building
END:VEVENT
END:VCALENDAR
